BEGIN:VCALENDAR
VERSION:2.0
PRODID:icalendar-ruby
CALSCALE:GREGORIAN
METHOD:PUBLISH
BEGIN:VEVENT
DTSTAMP:20260424T113700Z
UID:151-1627526@hslceldersburgmd.org
DTSTART:20260627T120000Z
DTEND:20260627T180000Z
CLASS:PUBLIC
CREATED:20260423T113148
DESCRIPTION:
LAST-MODIFIED:20260423T113148
LOCATION:HSLC Multi-purpose room
SUMMARY:Flea Mart (Rain or Shine)\, Saturday\, June 27\, 2026
URL;VALUE=URI:https://www.hslceldersburgmd.org/events/flea-mart-rain-or-shi
 ne-saturday-june-27-2026/2026-06-27
END:VEVENT
END:VCALENDAR
