BEGIN:VCALENDAR
VERSION:2.0
PRODID:icalendar-ruby
CALSCALE:GREGORIAN
METHOD:PUBLISH
BEGIN:VEVENT
DTSTAMP:20260424T113915Z
UID:152-1627528@hslceldersburgmd.org
DTSTART:20260606T170000Z
DTEND:20260614T020000Z
CLASS:PUBLIC
CREATED:20260423T121304
DESCRIPTION:Help us support our local volunteer firefighters and participat
 e in a fun event and fundraiser for HSLC.
LAST-MODIFIED:20260423T121304
LOCATION:
SUMMARY:Sykesville Carnival 
URL;VALUE=URI:https://www.hslceldersburgmd.org/events/sykesville-carnival/2
 026-06-06
ATTACH;FILENAME=concession-ice-cream-stand-free-vector.jpg;FMTTYPE=image/jp
 eg:https://dq5pwpg1q8ru0.cloudfront.net/2026/04/23/16/13/04/a96030b4-a587-
 4d2f-b71f-db5c1a972514/concession-ice-cream-stand-free-vector.jpg
END:VEVENT
END:VCALENDAR
